BEGIN:VCALENDAR
VERSION:2.0
PRODID:-//KiDS NEED MoRE - ECPv5.16.4//NONSGML v1.0//EN
CALSCALE:GREGORIAN
METHOD:PUBLISH
X-WR-CALNAME:KiDS NEED MoRE
X-ORIGINAL-URL:https://kidsneedmore.org
X-WR-CALDESC:Events for KiDS NEED MoRE
REFRESH-INTERVAL;VALUE=DURATION:PT1H
X-Robots-Tag:noindex
X-PUBLISHED-TTL:PT1H
BEGIN:VTIMEZONE
TZID:America/New_York
BEGIN:DAYLIGHT
TZOFFSETFROM:-0500
TZOFFSETTO:-0400
TZNAME:EDT
DTSTART:20240310T070000
END:DAYLIGHT
BEGIN:STANDARD
TZOFFSETFROM:-0400
TZOFFSETTO:-0500
TZNAME:EST
DTSTART:20241103T060000
END:STANDARD
END:VTIMEZONE
BEGIN:VEVENT
DTSTART;TZID=America/New_York:20240316T150000
DTEND;TZID=America/New_York:20240316T210000
DTSTAMP:20260424T171444
CREATED:20180217T153443Z
LAST-MODIFIED:20240215T201449Z
UID:1137-1710601200-1710622800@kidsneedmore.org
SUMMARY:Huntington St. Paddy's Day Bar Crawl
DESCRIPTION:Huntington St. Paddy’s Day Bar Crawl\nEverybody knows you celebrate St. Patrick’s day every weekend in March! Come join Long Island Social Events for our 11th annual St Patrick’s Day Bar Crawl March 16\, 2024 in Huntington NY. Join us for great drink specials\, while raising money for MoRE. Show your St. Patrick’s Day spirit and WEAR GREEN! \n\nGET YoUR TiCKETS
URL:https://kidsneedmore.org/event/huntington-st-paddys-day-bar-crawl/
LOCATION:Christophers Bar & Grill\, 8 Wall St.\, Huntington\, NY\, United States
ATTACH;FMTTYPE=image/png:https://kidsneedmore.org/wp-content/uploads/2018/02/11th-Annual.png
ORGANIZER;CN="Long%20Island%20Social%20Events":MAILTO:info@longislandsocialevents.com
END:VEVENT
END:VCALENDAR