BEGIN:VCALENDAR
VERSION:2.0
PRODID:-//KiDS NEED MoRE - ECPv5.16.4//NONSGML v1.0//EN
CALSCALE:GREGORIAN
METHOD:PUBLISH
X-ORIGINAL-URL:https://kidsneedmore.org
X-WR-CALDESC:Events for KiDS NEED MoRE
REFRESH-INTERVAL;VALUE=DURATION:PT1H
X-Robots-Tag:noindex
X-PUBLISHED-TTL:PT1H
BEGIN:VTIMEZONE
TZID:UTC
BEGIN:STANDARD
TZOFFSETFROM:+0000
TZOFFSETTO:+0000
TZNAME:UTC
DTSTART:20170101T000000
END:STANDARD
END:VTIMEZONE
BEGIN:VEVENT
DTSTART;TZID=UTC:20170409T130000
DTEND;TZID=UTC:20170409T150000
DTSTAMP:20260425T140238
CREATED:20170324T064347Z
LAST-MODIFIED:20170324T064503Z
UID:552-1491742800-1491750000@kidsneedmore.org
SUMMARY:Easter Egg Hunt
DESCRIPTION:Our 4th annual Easter Egg Hunt will be held at Marjorie Post Park on April 9th. Tickets are REQUIRED.  Space is limited and reservations are required so that we have enough eggs for each child. All eggs are filled with toys or allergy friendly candy so that ALL of our Mini Macaronis can participate! There will be carnival games and music PLUS a visit from the Easter Bunny!\n\nWe are proud to announce that Kids Need MORE will once again be a part of our egg hunt. (Kids Need MORE is a 501(c)(3) nonprofit charitable organization dedicated to enhancing the lives of children\, families\, and young adults coping with cancer and life-threatening illnesses.) All raffle proceeds go towards Kids Need MORE’s Camp Adventure.\n\nRegister Here
URL:https://kidsneedmore.org/event/easter-egg-hunt/
LOCATION:Marjorie Post Park\, Unqua Rd.\, Massapequa\, 11758\, United States
ATTACH;FMTTYPE=image/jpeg:https://kidsneedmore.org/wp-content/uploads/2017/03/easter-egg-hunt.jpg
END:VEVENT
END:VCALENDAR