BEGIN:VCALENDAR
VERSION:2.0
PRODID:-//KiDS NEED MoRE - ECPv5.16.4//NONSGML v1.0//EN
CALSCALE:GREGORIAN
METHOD:PUBLISH
X-ORIGINAL-URL:https://kidsneedmore.org
X-WR-CALDESC:Events for KiDS NEED MoRE
REFRESH-INTERVAL;VALUE=DURATION:PT1H
X-Robots-Tag:noindex
X-PUBLISHED-TTL:PT1H
BEGIN:VTIMEZONE
TZID:America/New_York
BEGIN:DAYLIGHT
TZOFFSETFROM:-0500
TZOFFSETTO:-0400
TZNAME:EDT
DTSTART:20170312T070000
END:DAYLIGHT
BEGIN:STANDARD
TZOFFSETFROM:-0400
TZOFFSETTO:-0500
TZNAME:EST
DTSTART:20171105T060000
END:STANDARD
END:VTIMEZONE
BEGIN:VEVENT
DTSTART;TZID=America/New_York:20170831T190000
DTEND;TZID=America/New_York:20170831T230000
DTSTAMP:20260422T101409
CREATED:20170827T214910Z
LAST-MODIFIED:20170827T215051Z
UID:858-1504206000-1504220400@kidsneedmore.org
SUMMARY:The Ballato Family Fundraiser
DESCRIPTION:The Ballato Family Fundraiser \n  \nThe Ballato Family Presents an evening at the Watermill Caterers in Smithtown\, celebrating the wonderful work of KiDS NEED MoRE. \nJoin us for cocktails\, dinner and changing the lives of children coping with cancer.\n August 31st. 2017 from 7:00 – 11:00 PM\n Watermill Caterers\, Smithtown NY \nYour donation to this evening’s event will benefit children coping with cancer and life-threatening illness. \n \nGET YOUR TiCKET
URL:https://kidsneedmore.org/event/the-ballato-family-fundraiser/
LOCATION:Watermill Caterers\, 711 Smithtown Bypass\, Smithtown\, NY\, United States
ATTACH;FMTTYPE=image/jpeg:https://kidsneedmore.org/wp-content/uploads/2017/08/watermill.jpg
END:VEVENT
END:VCALENDAR